BEGIN:VCALENDAR
VERSION:2.0
PRODID:-//Wykham Park Academy - ECPv6.15.14//NONSGML v1.0//EN
CALSCALE:GREGORIAN
METHOD:PUBLISH
X-ORIGINAL-URL:https://www.wykhampark-aspirations.org
X-WR-CALDESC:Events for Wykham Park Academy
REFRESH-INTERVAL;VALUE=DURATION:PT1H
X-Robots-Tag:noindex
X-PUBLISHED-TTL:PT1H
BEGIN:VTIMEZONE
TZID:Europe/London
BEGIN:DAYLIGHT
TZOFFSETFROM:+0000
TZOFFSETTO:+0100
TZNAME:BST
DTSTART:20200329T010000
END:DAYLIGHT
BEGIN:STANDARD
TZOFFSETFROM:+0100
TZOFFSETTO:+0000
TZNAME:GMT
DTSTART:20201025T010000
END:STANDARD
BEGIN:DAYLIGHT
TZOFFSETFROM:+0000
TZOFFSETTO:+0100
TZNAME:BST
DTSTART:20210328T010000
END:DAYLIGHT
BEGIN:STANDARD
TZOFFSETFROM:+0100
TZOFFSETTO:+0000
TZNAME:GMT
DTSTART:20211031T010000
END:STANDARD
BEGIN:DAYLIGHT
TZOFFSETFROM:+0000
TZOFFSETTO:+0100
TZNAME:BST
DTSTART:20220327T010000
END:DAYLIGHT
BEGIN:STANDARD
TZOFFSETFROM:+0100
TZOFFSETTO:+0000
TZNAME:GMT
DTSTART:20221030T010000
END:STANDARD
END:VTIMEZONE
BEGIN:VEVENT
DTSTART;VALUE=DATE:20210722
DTEND;VALUE=DATE:20210723
DTSTAMP:20260422T123648
CREATED:20200907T145412Z
LAST-MODIFIED:20210719T125636Z
UID:1949-1626912000-1626998399@www.wykhampark-aspirations.org
SUMMARY:Last day of Term 6 (12.30 pm-12.50 pm finish)
DESCRIPTION:Last day of Term 6: At 12.30 p.m. all students will return to their mentor groups and we will dismiss year groups one by one\, starting with the best attending cohort. All students will have left the site by approximately 12.50 p.m.
URL:https://www.wykhampark-aspirations.org/event/last-day-of-term-6/
CATEGORIES:Term and holiday dates
END:VEVENT
END:VCALENDAR